BEGIN:VCALENDAR
VERSION:2.0
PRODID:-//ChamberMaster//Event Calendar 2.0//EN
METHOD:PUBLISH
X-PUBLISHED-TTL:P1H
REFRESH-INTERVAL:P1H
CALSCALE:GREGORIAN
BEGIN:VTIMEZONE
TZID:America/Denver
BEGIN:DAYLIGHT
RRULE:FREQ=YEARLY;BYMONTH=3;BYDAY=2SU
DTSTART:20070101T000000
TZOFFSETFROM:-0700
TZOFFSETTO:-0600
TZNAME:Mountain Daylight Time
END:DAYLIGHT
BEGIN:STANDARD
RRULE:FREQ=YEARLY;BYMONTH=11;BYDAY=1SU
DTSTART:20070101T000000
TZOFFSETFROM:-0600
TZOFFSETTO:-0700
TZNAME:Mountain Standard Time
END:STANDARD
END:VTIMEZONE
BEGIN:VEVENT
DTSTART;TZID=America/Denver:20240607T120000
DTEND;TZID=America/Denver:20240607T130000
X-MICROSOFT-CDO-ALLDAYEVENT:FALSE
SUMMARY:APEX RIN SE Alberta: Founder Fridays
DESCRIPTION:Founder Fridays are designed to support Alberta's entrepreneurs\, mentors\, ecosystem builders and service providers by: Upskilling entrepreneurs\, mentors\, ecosystem builders and service providers across the province Growing entrepreneurship and entrepreneurship support in and around Alberta's post-secondary institutions Increasing the volume of startups and the velocity at which they progress through the Startup Commons stages Helping startups grow faster and developing the expertise and traction required to attract capital from angel investors and Venture Capitalists. Working with existing entrepreneurship support organizations across Alberta to expand and upskill their mentor network Learn more at https://150startups.com/events/founder-fridays/\nhttps://www.apexalberta.ca/events
X-ALT-DESC;FMTTYPE=text/html:<!DOCTYPE html><html><head><title></title></head><body aria-disabled="false"><p>Founder Fridays are designed to support Alberta&rsquo\;s entrepreneurs\, mentors\, ecosystem builders and service providers by: Upskilling entrepreneurs\, mentors\, ecosystem builders and service providers across the province Growing entrepreneurship and entrepreneurship support in and around Alberta&rsquo\;s post-secondary institutions Increasing the volume of startups and the velocity at which they progress through the Startup Commons stages Helping startups grow faster and developing the expertise and traction required to attract capital from angel investors and Venture Capitalists. Working with existing entrepreneurship support organizations across Alberta to expand and upskill their mentor network Learn more at <a fr-original-style="" href="https://150startups.com/events/founder-fridays/" style="user-select: auto\;">https://150startups.com/events/founder-fridays/</a></p><p><br></p><p><a fr-original-style="" href="https://www.apexalberta.ca/events" style="user-select: auto\;">https://www.apexalberta.ca/events</a></p></body></html>
LOCATION:
UID:e.1485.994550
SEQUENCE:3
DTSTAMP:20260423T162956Z
URL:https://chamber.southeastalbertachamber.ca/chamber-calendar/Details/apex-rin-se-alberta-founder-fridays-1138922?sourceTypeId=Hub
END:VEVENT
END:VCALENDAR
