BEGIN:VCALENDAR
VERSION:2.0
PRODID:-//ChamberMaster//Event Calendar 2.0//EN
METHOD:PUBLISH
X-PUBLISHED-TTL:P1H
REFRESH-INTERVAL:P1H
CALSCALE:GREGORIAN
BEGIN:VTIMEZONE
TZID:America/Denver
BEGIN:DAYLIGHT
RRULE:FREQ=YEARLY;BYMONTH=3;BYDAY=2SU
DTSTART:20070101T000000
TZOFFSETFROM:-0700
TZOFFSETTO:-0600
TZNAME:Mountain Daylight Time
END:DAYLIGHT
BEGIN:STANDARD
RRULE:FREQ=YEARLY;BYMONTH=11;BYDAY=1SU
DTSTART:20070101T000000
TZOFFSETFROM:-0600
TZOFFSETTO:-0700
TZNAME:Mountain Standard Time
END:STANDARD
END:VTIMEZONE
BEGIN:VEVENT
DTSTART;TZID=America/Denver:20260502T080000
DTEND;TZID=America/Denver:20260502T153000
X-MICROSOFT-CDO-ALLDAYEVENT:FALSE
SUMMARY:Board Leadership Southeast Alberta - Brooks Training Event
DESCRIPTION:Calling all volunteers! We're very excited to announce that a Board Leadership Training Event\, hosted by Board Leadership Southeast Alberta\, is being hosted in Brooks on Saturday\, May 2\, 2026 at Medicine Hat College Brooks Campus. The full-day professional development opportunity is designed for non-profit leaders\, board members\, and community volunteers who want to strengthen their governance skills\, learn best practices\, and connect with peers from across the Brooks Newell Region and Southeastern Alberta. Learn more and view the agenda here:https://www.boardleadershipsouth.ca/ Register Here:https://www.zeffy.com/en-CA/ticketing/board-leadership-southeast-alberta-brooks-training-event Regular Ticket: $75 until April 24 Limited spots are available! Register early to secure your seat and select your breakout sessions. We hope you or members of your organization can join us for this valuable training event. Please feel free to share this opportunity with your networks. We look forward to seeing you in May!
X-ALT-DESC;FMTTYPE=text/html:<!DOCTYPE html><html><head><title></title></head><body aria-disabled="false"><p><br></p><p><strong fr-original-style="" style="font-weight: 700\;"><span style="font-size: 24px\;">Calling all volunteers!</span></strong></p><p style="background: white\;"><strong fr-original-style="" style="font-weight: 700\;">&nbsp\;</strong><strong fr-original-style="" style="font-weight: 700\;">We&#39\;re very excited to announce that a Board Leadership Training Event\, hosted by Board Leadership Southeast Alberta\, is being hosted in Brooks on Saturday\, May 2\, 2026 at Medicine Hat College Brooks Campus.</strong></p><p style="background: white\;"><strong fr-original-style="" style="font-weight: 700\;">&nbsp\;</strong><strong fr-original-style="" style="font-weight: 700\;">The full-day professional development opportunity is designed for non-profit leaders\, board members\, and community volunteers who want to strengthen their governance skills\, learn best practices\, and connect with peers from across the Brooks Newell Region and Southeastern Alberta.</strong></p><p style="background:white\;"><strong fr-original-style="" style="font-weight: 700\;">&nbsp\;</strong></p><p style="background: white\;"><strong fr-original-style="" style="font-weight: 700\;"><span style="font-size: 18px\;">Learn more and view the agenda here:</span></strong></p><p style="background:white\;"><strong fr-original-style="" style="font-weight: 700\;"><a data-auth="NotApplicable" data-linkindex="0" fr-original-style="" href="https://www.boardleadershipsouth.ca/" style="user-select: auto\;" title="Original URL: https://www.boardleadershipsouth.ca/. Click or tap if you trust this link.">https://www.boardleadershipsouth.ca/</a></strong></p><p style="background:white\;"><strong fr-original-style="" style="font-weight: 700\;">&nbsp\;</strong></p><p style="background: white\;"><strong fr-original-style="" style="font-weight: 700\;"><span style="font-size: 18px\;">Register Here:</span></strong></p><p style="background:white\;"><strong fr-original-style="" style="font-weight: 700\;"><a data-auth="NotApplicable" data-linkindex="1" fr-original-style="" href="https://www.zeffy.com/en-CA/ticketing/board-leadership-southeast-alberta-brooks-training-event" style="user-select: auto\;" title="Original URL: https://www.zeffy.com/en-CA/ticketing/board-leadership-southeast-alberta-brooks-training-event. Click or tap if you trust this link.">https://www.zeffy.com/en-CA/ticketing/board-leadership-southeast-alberta-brooks-training-event</a></strong></p><p style="background: white\;"><strong fr-original-style="" style="font-weight: 700\;">&nbsp\;</strong></p><p style="background:white\;"><strong fr-original-style="" style="font-weight: 700\;">Regular Ticket: $75 until April 24</strong></p><p style="background:white\;"><strong fr-original-style="" style="font-weight: 700\;">&nbsp\;</strong></p><p style="background:white\;"><strong fr-original-style="" style="font-weight: 700\;">Limited spots are available! Register early to secure your seat and select your breakout sessions.</strong></p><p style="background:white\;"><strong fr-original-style="" style="font-weight: 700\;">&nbsp\;</strong></p><p style="background:white\;"><strong fr-original-style="" style="font-weight: 700\;">We hope you or members of your organization can join us for this valuable training event. Please feel free to share this opportunity with your networks.</strong></p><p style="background:white\;"><strong fr-original-style="" style="font-weight: 700\;">&nbsp\;</strong></p><p style="background: white\;"><strong fr-original-style="" style="font-weight: 700\;">We look forward to seeing you in May!</strong></p></body></html>
LOCATION:200 Horticultural Station Rd E Brooks AB T1R 1E5
UID:e.1485.1446626
SEQUENCE:3
DTSTAMP:20260421T110218Z
URL:https://chamber.southeastalbertachamber.ca/chamber-calendar/Details/board-leadership-southeast-alberta-brooks-training-event-1713400?sourceTypeId=Hub
END:VEVENT
END:VCALENDAR
