BEGIN:VCALENDAR
VERSION:2.0
PRODID:-//ChamberMaster//Event Calendar 2.0//EN
METHOD:PUBLISH
X-PUBLISHED-TTL:P1H
REFRESH-INTERVAL:P1H
CALSCALE:GREGORIAN
BEGIN:VTIMEZONE
TZID:America/Denver
BEGIN:DAYLIGHT
RRULE:FREQ=YEARLY;BYMONTH=3;BYDAY=2SU
DTSTART:20070101T000000
TZOFFSETFROM:-0700
TZOFFSETTO:-0600
TZNAME:Mountain Daylight Time
END:DAYLIGHT
BEGIN:STANDARD
RRULE:FREQ=YEARLY;BYMONTH=11;BYDAY=1SU
DTSTART:20070101T000000
TZOFFSETFROM:-0600
TZOFFSETTO:-0700
TZNAME:Mountain Standard Time
END:STANDARD
END:VTIMEZONE
BEGIN:VEVENT
DTSTART;TZID=America/Denver:20260508T110000
DTEND;TZID=America/Denver:20260508T170000
X-MICROSOFT-CDO-ALLDAYEVENT:FALSE
SUMMARY:Daniel's Dip Grand Opening
DESCRIPTION:Join us in welcoming Daniel's Dill Dip to the community with their grand opening and ribbon cutting in Redcliff!What started during COVID as a passion project to create healthy\, flavour‑packed dips quickly grew into something special. Daniel and the team set out to challenge a common misconception\, that vegan can't be tasty. The result? A popular\, locally made vegan\, dairy-free\, soy-free\, nut-free\, and gluten-free\,\, plant-based dip that everyone can enjoy\, no compromise on flavour.Come share in their story and support a business redefining healthy eating\, one dip at a time! Ribbon cutting at 11:30 AM.
X-ALT-DESC;FMTTYPE=text/html:<!DOCTYPE html><html><head><title></title></head><body aria-disabled="false"><p>Join us in welcoming Daniel&rsquo\;s Dill Dip to the community with their grand opening and ribbon cutting in Redcliff!</p><p>What started during COVID as a passion project to create healthy\, flavour‑packed dips quickly grew into something special. Daniel and the team set out to challenge a common misconception\, that vegan can&rsquo\;t be tasty. The result? A popular\, locally made vegan\, dairy-free\, soy-free\, nut-free\, and gluten-free\,\, plant-based dip that everyone can enjoy\, no compromise on flavour.</p><p>Come share in their story and support a business redefining healthy eating\, one dip at a time! Ribbon cutting at 11:30 AM.&nbsp\;</p></body></html>
LOCATION:#2 1302 Dirkson Dr NE Redcliff AB T0J 2P0
UID:e.1485.1448514
SEQUENCE:3
DTSTAMP:20260422T105743Z
URL:https://chamber.southeastalbertachamber.ca/chamber-calendar/Details/daniel-s-dip-grand-opening-1715513?sourceTypeId=Hub
END:VEVENT
END:VCALENDAR
