BEGIN:VCALENDAR
VERSION:2.0
PRODID:-//ChamberMaster//Event Calendar 2.0//EN
METHOD:PUBLISH
X-PUBLISHED-TTL:P1H
REFRESH-INTERVAL:P1H
CALSCALE:GREGORIAN
BEGIN:VTIMEZONE
TZID:America/Denver
BEGIN:DAYLIGHT
RRULE:FREQ=YEARLY;BYMONTH=3;BYDAY=2SU
DTSTART:20070101T000000
TZOFFSETFROM:-0700
TZOFFSETTO:-0600
TZNAME:Mountain Daylight Time
END:DAYLIGHT
BEGIN:STANDARD
RRULE:FREQ=YEARLY;BYMONTH=11;BYDAY=1SU
DTSTART:20070101T000000
TZOFFSETFROM:-0600
TZOFFSETTO:-0700
TZNAME:Mountain Standard Time
END:STANDARD
END:VTIMEZONE
BEGIN:VEVENT
DTSTART;TZID=America/Denver:20260521T093000
DTEND;TZID=America/Denver:20260521T120000
X-MICROSOFT-CDO-ALLDAYEVENT:FALSE
SUMMARY:From Clutter to Calm – Organize\, Downsize\, Declutter & Repurpose
DESCRIPTION:Feeling overwhelmed by clutter or unsure where to start when it comes to downsizing? You're not alone\, in this session you will gain tips and strategies to organize your life and even discover what your "collector type" is. Join Pam Robertson Rivet for an engaging and fun morning. At this free community session\, we will  explore simple strategies to organize your home effectively\, learn how to downsize without feeling guilt or stress and discover creative ways to repurpose and give new life to your belongings This session is fun\, friendly\, and designed to leave you feeling confident\, motivated\, and in control of your space.
X-ALT-DESC;FMTTYPE=text/html:<!DOCTYPE html><html><head><title></title></head><body aria-disabled="false"><p>Feeling overwhelmed by clutter or unsure where to start when it comes to downsizing? You&#39\;re not alone\, in this session you will gain tips and strategies to organize your life and even discover what your &quot\;collector type&quot\; is. Join Pam Robertson Rivet for an engaging and fun morning. At this free community session\, we will &nbsp\;explore simple strategies to organize your home effectively\, learn how to downsize without feeling guilt or stress and discover creative ways to repurpose and give new life to your belongings This session is fun\, friendly\, and designed to leave you feeling confident\, motivated\, and in control of your space.</p></body></html>
LOCATION:225 Woodman Avenue SE Medicine Hat AB T1A 3H2
UID:e.1485.1447394
SEQUENCE:3
DTSTAMP:20260421T110845Z
URL:https://chamber.southeastalbertachamber.ca/chamber-calendar/Details/from-clutter-to-calm-organize-downsize-declutter-repurpose-1714331?sourceTypeId=Hub
END:VEVENT
END:VCALENDAR
